BEGIN:VCALENDAR
VERSION:2.0
PRODID:Quartas Culturais de Maio
X-WR-CALNAME:Quartas Culturais de Maio
X-WR-TIMEZONE:Europe/Lisbon
X-PUBLISHED-TTL:P1W
BEGIN:VTIMEZONE
TZID:Europe/Lisbon
X-LIC-LOCATION:Europe/Lisbon
END:VTIMEZONE
BEGIN:VEVENT
UID:69ecd1c0cbc13
DTSTART;VALUE=DATE:20260513
SEQUENCE:0
TRANSP:OPAQUE
DTEND;VALUE=DATE:20260514
SUMMARY:Quartas Culturais de Maio
CLASS:PUBLIC
DESCRIPTION:No âmbito do projeto “Quartas Culturais Santa Clara”\, a J
 unta de Freguesia realizará\, no próximo dia 13 de maio (quarta-feira)\,
  no Centro Cívico de Santa Clara:Às 21 horas\, com entrada gratuita\, o 
 concerto Emanuel Bettecourt Trio\, no Auditório do dito Centro.
X-MICROSOFT-CDO-ALLDAYEVENT:TRUE
DTSTAMP:20260425T143752Z
END:VEVENT
END:VCALENDAR